BEGIN:VCALENDAR
VERSION:2.0
PRODID:-//ASC - Access Safety Compliance Training, Inc. - ECPv6.15.20//NONSGML v1.0//EN
CALSCALE:GREGORIAN
METHOD:PUBLISH
X-WR-CALNAME:ASC - Access Safety Compliance Training, Inc.
X-ORIGINAL-URL:https://asctraininginc.com
X-WR-CALDESC:Events for ASC - Access Safety Compliance Training, Inc.
REFRESH-INTERVAL;VALUE=DURATION:PT1H
X-Robots-Tag:noindex
X-PUBLISHED-TTL:PT1H
BEGIN:VTIMEZONE
TZID:Europe/Helsinki
BEGIN:DAYLIGHT
TZOFFSETFROM:+0200
TZOFFSETTO:+0300
TZNAME:EEST
DTSTART:20240331T010000
END:DAYLIGHT
BEGIN:STANDARD
TZOFFSETFROM:+0300
TZOFFSETTO:+0200
TZNAME:EET
DTSTART:20241027T010000
END:STANDARD
BEGIN:DAYLIGHT
TZOFFSETFROM:+0200
TZOFFSETTO:+0300
TZNAME:EEST
DTSTART:20250330T010000
END:DAYLIGHT
BEGIN:STANDARD
TZOFFSETFROM:+0300
TZOFFSETTO:+0200
TZNAME:EET
DTSTART:20251026T010000
END:STANDARD
BEGIN:DAYLIGHT
TZOFFSETFROM:+0200
TZOFFSETTO:+0300
TZNAME:EEST
DTSTART:20260329T010000
END:DAYLIGHT
BEGIN:STANDARD
TZOFFSETFROM:+0300
TZOFFSETTO:+0200
TZNAME:EET
DTSTART:20261025T010000
END:STANDARD
END:VTIMEZONE
BEGIN:VEVENT
DTSTART;VALUE=DATE:20250607
DTEND;VALUE=DATE:20250608
DTSTAMP:20260424T154728
CREATED:20250418T102108Z
LAST-MODIFIED:20250524T000113Z
UID:3625-1749254400-1749340799@asctraininginc.com
SUMMARY:First Aid CPR / AED
DESCRIPTION:Private client training for whole work force in HSI (Health and Safety Institute) Workplace CPR/AED and First aid. \nUpon completion all attendees will receive Certification in CPR?AED and First Aid. \nWant to have your own class contact Larry@asctraininginc.com \nCost: $65.00 per person
URL:https://asctraininginc.com/event/first-aid-cpr-aed/
LOCATION:In- Person / Private\, Kissimmee\, FL\, United States
CATEGORIES:HSI
ATTACH;FMTTYPE=image/jpeg:https://asctraininginc.com/wp-content/uploads/2025/04/osha4.jpg
ORGANIZER;CN="Access Safety Compliance Training":MAILTO:larry@asctraininginc.com
END:VEVENT
END:VCALENDAR