BEGIN:VCALENDAR
VERSION:2.0
PRODID:-//ASC - Access Safety Compliance Training, Inc. - ECPv6.15.20//NONSGML v1.0//EN
CALSCALE:GREGORIAN
METHOD:PUBLISH
X-WR-CALNAME:ASC - Access Safety Compliance Training, Inc.
X-ORIGINAL-URL:https://asctraininginc.com
X-WR-CALDESC:Events for ASC - Access Safety Compliance Training, Inc.
REFRESH-INTERVAL;VALUE=DURATION:PT1H
X-Robots-Tag:noindex
X-PUBLISHED-TTL:PT1H
BEGIN:VTIMEZONE
TZID:UTC
BEGIN:STANDARD
TZOFFSETFROM:+0000
TZOFFSETTO:+0000
TZNAME:UTC
DTSTART:20250101T000000
END:STANDARD
END:VTIMEZONE
BEGIN:VEVENT
DTSTART;TZID=UTC:20260326T080000
DTEND;TZID=UTC:20260327T170000
DTSTAMP:20260424T135029
CREATED:20250523T224158Z
LAST-MODIFIED:20260323T153844Z
UID:3830-1774512000-1774630800@asctraininginc.com
SUMMARY:OSHA 10 Hour Course
DESCRIPTION:OSHA 10-Hour Construction Training Course\nWith Official OSHA DOL Card\nStudents will learn everything they need to know about OSHA 29 CFR 1926 standards with the most trusted\, OSHA-authorized course. Prevent construction-related injuries and accidents by enrolling in OSHA 10-Hour Construction training today! Additionally students receive a comprehensive overview of the policies\, procedures\, and best practices in OSHA’s 29 CFR 1926 standards for construction. The course also covers vital information about all the significant hazards found on the site. \nPRIVATE CLIENT COURSE \nTHIS is a LIVE In-Person course \nThis is a 2 day and 5 hours each day of training course. \nCost per student: $250.00 * \n*Plus Travel cost associated to the location and hotel fees.
URL:https://asctraininginc.com/event/osha-30-hour-course/
LOCATION:In- Person / Private\, Kissimmee\, FL\, United States
CATEGORIES:OSHA Courses
ATTACH;FMTTYPE=image/jpeg:https://asctraininginc.com/wp-content/uploads/2025/05/IMG_1721.jpg
ORGANIZER;CN="Access Safety Compliance Training":MAILTO:larry@asctraininginc.com
END:VEVENT
END:VCALENDAR