BEGIN:VCALENDAR
VERSION:2.0
PRODID:-//ASC - Access Safety Compliance Training, Inc. - ECPv6.15.20//NONSGML v1.0//EN
CALSCALE:GREGORIAN
METHOD:PUBLISH
X-ORIGINAL-URL:https://asctraininginc.com
X-WR-CALDESC:Events for ASC - Access Safety Compliance Training, Inc.
REFRESH-INTERVAL;VALUE=DURATION:PT1H
X-Robots-Tag:noindex
X-PUBLISHED-TTL:PT1H
BEGIN:VTIMEZONE
TZID:UTC
BEGIN:STANDARD
TZOFFSETFROM:+0000
TZOFFSETTO:+0000
TZNAME:UTC
DTSTART:20250101T000000
END:STANDARD
END:VTIMEZONE
BEGIN:VEVENT
DTSTART;VALUE=DATE:20260710
DTEND;VALUE=DATE:20260711
DTSTAMP:20260424T100937
CREATED:20250418T102848Z
LAST-MODIFIED:20260410T123009Z
UID:3639-1783641600-1783727999@asctraininginc.com
SUMMARY:Hazwoper Refresher
DESCRIPTION:Hazwoper Refresher & CPR/AED First Aid\nPrivate Course \nWhat is HAZWOPER 8-Hour Training?\nIf you remove hazardous wastes or are exposed to hazardous substances at your job and need to meet annual training requirements\, our 8-Hour HAZWOPER Refresher course is perfect for you. The course reviews all the materials required by OSHA 29 CFR 1910.120 \nYou’ll get an overview of a variety of topics\, such as personal protective equipment\, decontamination\, confined space entry\, medical surveillance\, and standard emergency procedures. You will also learn how to recognize hazards to ensure you’re prepared to respond to dangerous conditions. \nAdditionally\, the course provides essential information on how to properly handle and dispose of hazardous waste\, in case it’s necessary within the course of your job or because of an unexpected emergency. \nPlus\, you’ll also get a refresher on the Globally Harmonized System of Classification and Labeling of Chemicals (GHS) so that you thoroughly understand OSHA’s 2013 updates to the Hazardous Communication Standard. \nWant your own company Hazwoper course contact: Larry@asctraininginc.com
URL:https://asctraininginc.com/event/hazwoper-refresher-cpr-aed-first-aid/
LOCATION:In- Person / Private\, Kissimmee\, FL\, United States
CATEGORIES:Hazwoper
ATTACH;FMTTYPE=image/jpeg:https://asctraininginc.com/wp-content/uploads/2025/03/osha-scaled-1-300x200-1.jpg
ORGANIZER;CN="Access Safety Compliance Training":MAILTO:larry@asctraininginc.com
END:VEVENT
BEGIN:VEVENT
DTSTART;TZID=UTC:20260715T080000
DTEND;TZID=UTC:20260716T150000
DTSTAMP:20260424T100937
CREATED:20250515T160824Z
LAST-MODIFIED:20260410T122735Z
UID:3761-1784102400-1784214000@asctraininginc.com
SUMMARY:INTERMEDIATE TTC (MOT) CERTIFICATION COURSE
DESCRIPTION:INTERMEDIATE TTC (MOT) CERTIFICATE\nWednesday & Thursday 8:00AM – 3:00PM \nThis is a Virtual Course\, Held on-line.                                                                                                                                                                                                                                                                    Students Must have: \n\nComputer camera\,  (On at all times)\nComputer Sound and Microphone\nGood internet connection\,\nAccess to their email and\nAble to scan Forms and exam back to Proctor.\n\nDescription \nThe Intermediate Certificate is required for any person placing temporary traffic control devices or relocating devices in or alongside the roadway to implement a traffic control plan to route roadway users including pedestrians and bicyclists safely around work operations. \nTraining Requirements \n\nSuccessfully complete two-day course including flagging exercise and proctored exam\nAt least 70% of exam questions must be answered correctly on proctored exam\nUpon completion\, qualification emailed by MOT Administrator www.motadmin.com\nQualification expires four years after the date of successful completion\n16 PDH available to Professional Engineers\n\nCost: $ 350.00 per student
URL:https://asctraininginc.com/event/intermediate-ttc-mot-certification-course/
LOCATION:Virtual Class
CATEGORIES:FDOT Certification
ATTACH;FMTTYPE=image/jpeg:https://asctraininginc.com/wp-content/uploads/2020/11/fdot.jpg
ORGANIZER;CN="Access Safety Compliance Training":MAILTO:larry@asctraininginc.com
END:VEVENT
END:VCALENDAR